BEGIN:VCALENDAR
VERSION:2.0
PRODID:-//eventon.com NONSGML v1.0//EN
CALSCALE:GREGORIAN
METHOD:PUBLISH
BEGIN:VEVENT
UID:69ecf899119aa
DTSTAMP:20260425T172337Z
DTSTART:20220721T190000Z
DTEND:20220722T045000Z
LOCATION:Casa Purcell C. Hidalgo 231\,  Zona Centro\,  25000 Saltillo\,  Coah.
SUMMARY:COLORES DE IDENTIDAD
DESCRIPTION:Colección Museo Soumaya. La exposición reflexiona en torno al
  papel de la gráfica publicitaria de Galas de Mexico en la creación y dif
 usión de la mexicanidad Centro Cultural «Casa Purcell» Inauguración 14:
 00 hrs. Museo Rubén Herrera» Apertura: 15:00 hrs Todo público\nhttps://s
 altillo.city/eventos/colores-de-identidad/
URL:https://saltillo.city/eventos/colores-de-identidad/
END:VEVENT
END:VCALENDAR