BEGIN:VCALENDAR
VERSION:2.0
PRODID:-//eventon.com NONSGML v1.0//EN
CALSCALE:GREGORIAN
METHOD:PUBLISH
BEGIN:VEVENT
UID:69e7b185d3715
DTSTAMP:20260421T171901Z
DTSTART:20230211T230000Z
DTEND:20230212T055000Z
LOCATION:Plaza de la Nueva Tlaxcala Plaza Nueva Tlaxcala\,  Zona Centro\,  25000 Saltillo\,  Coah.
SUMMARY:Tradicional Callejoneada Saltillense con Rondallas
DESCRIPTION:Sabado 11 / 17:00 hrs.Plaza de la Nueva Tlaxcala\nhttps://salti
 llo.city/eventos/tradicional-callejoneada-saltillense-con-rondallas/
URL:https://saltillo.city/eventos/tradicional-callejoneada-saltillense-con-rondallas/
END:VEVENT
END:VCALENDAR