BEGIN:VCALENDAR
VERSION:2.0
PRODID:-//eventon.com NONSGML v1.0//EN
CALSCALE:GREGORIAN
METHOD:PUBLISH
BEGIN:VEVENT
UID:69e8fef6bfcfe
DTSTAMP:20260422T170142Z
DTSTART:20230402T020000Z
DTEND:20230402T055000Z
LOCATION:saleExpo Feria Saltillo Bulevar Centenario de Torreón\,  Saltillo
SUMMARY:Los Socios del Ritmo\,  Sonora Tropicana y Chamo Swing en Saltillo
DESCRIPTION:¡Ven a disfrutar de este gran concierto y de todos sus éxitos
  en este Carnaval 2023!📍Explanada de la Feria Saltillo\,  Coahuila.📆 
 Sábado 01 de Abril del 2023⏰ 8:00pm Ubicación: Escenario Carnaval -Lleg
 ar 30 minutos antes de la función\,  toma en cuenta el tiempo para estacio
 nar. Paga en línea o reserva[..]\nhttps://saltillo.city/eventos/los-socios
 -del-ritmo-sonora-tropicana-y-chamo-swing-en-saltillo/
URL:https://saltillo.city/eventos/los-socios-del-ritmo-sonora-tropicana-y-chamo-swing-en-saltillo/
END:VEVENT
END:VCALENDAR