BEGIN:VCALENDAR
VERSION:2.0
PRODID:-//eventon.com NONSGML v1.0//EN
CALSCALE:GREGORIAN
METHOD:PUBLISH
BEGIN:VEVENT
UID:69ecf761226f7
DTSTAMP:20260425T171825Z
DTSTART:20220430T020000Z
DTEND:20220430T045000Z
LOCATION:Auditorio Parque Las Maravillas Blvd. Carlos Abedrop Dávila #3745\,  Nuevo Centro Metropolitano de Saltillo\,  25022 Saltillo\,  Coah.
SUMMARY:La Firma en Saltillo
DESCRIPTION:La Firma en Saltillo Coahuila próximo 29 de abril en el Audito
 rio parque las Maravillas.\nhttps://saltillo.city/eventos/la-firma-en-salti
 llo/
URL:https://saltillo.city/eventos/la-firma-en-saltillo/
END:VEVENT
END:VCALENDAR