BEGIN:VCALENDAR
VERSION:2.0
PRODID:-//eventon.com NONSGML v1.0//EN
CALSCALE:GREGORIAN
METHOD:PUBLISH
BEGIN:VEVENT
UID:69e63811ac2d8
DTSTAMP:20260420T142833Z
DTSTART:20230903T000000Z
DTEND:20230903T055000Z
LOCATION:Universidad La Salle Carretera Antigua a Arteaga\,  Km. 8\,  25298 Saltillo\,  Coah.
SUMMARY:Festival de la Paella XIII
DESCRIPTION:Celebra con nosotros XIII Festival de la Paella 🥘🍷🎉 Lo
 s esperamos el sábado 2 de Septiembre en @lasallesaltillo a partir de las 
 6:00pm ⏰ Degustación de paellas\,  pabellón de vino\,  música en vivo 
 y más 🎶¡Los esperamos! 📞Para más información 8444155038 y al corr
 eo 📧 contacto@caniracsaltillo.mx\nhttps://saltillo.city/eventos/festival
 -de-la-paella-xiii/
URL:https://saltillo.city/eventos/festival-de-la-paella-xiii/
END:VEVENT
END:VCALENDAR