BEGIN:VCALENDAR
VERSION:2.0
PRODID:-//eventon.com NONSGML v1.0//EN
CALSCALE:GREGORIAN
METHOD:PUBLISH
BEGIN:VEVENT
UID:69e9e4ed2caf0
DTSTAMP:20260423T092253Z
DTSTART:20231001T010000Z
DTEND:20231001T055000Z
LOCATION:Underground Bar Calle Ignacio Allende 201\,  Zona Centro\,  25000 Saltillo\,  Coah.
SUMMARY:Cobras Fighters en Underground Bar
DESCRIPTION:Los invitamos al siguiente evento en elUnderground BarRecuerden
  que todo lo recaudado en covers será para nuestro próximo torneo.💚
  Cobras rumbo Aguascalientes\nhttps://saltillo.city/eventos/cobras-fighter
 s-en-underground-bar/
URL:https://saltillo.city/eventos/cobras-fighters-en-underground-bar/
END:VEVENT
END:VCALENDAR