BEGIN:VCALENDAR
VERSION:2.0
PRODID:-//eventon.com NONSGML v1.0//EN
CALSCALE:GREGORIAN
METHOD:PUBLISH
BEGIN:VEVENT
UID:69e9e4696d050
DTSTAMP:20260423T092041Z
DTSTART:20240525T030000Z
DTEND:20240525T055900Z
LOCATION:Lienzo Charro Profr. Enrique González Treviño Nazario Ortiz Garza s/n Rancho de Peña 25210 Saltillo\,  Coah.
SUMMARY:Sabino Gran Tour en El Lienzo Charro
DESCRIPTION:\nhttps://saltillo.city/eventos/sabino-gran-tour-en-el-lienzo-c
 harro/
URL:https://saltillo.city/eventos/sabino-gran-tour-en-el-lienzo-charro/
END:VEVENT
END:VCALENDAR