BEGIN:VCALENDAR
VERSION:2.0
PRODID:-//eventon.com NONSGML v1.0//EN
CALSCALE:GREGORIAN
METHOD:PUBLISH
BEGIN:VEVENT
UID:69ebadd7ae47f
DTSTAMP:20260424T175223Z
DTSTART:20240424T020000Z
DTEND:20240424T055900Z
LOCATION:Teatro de la Ciudad Fernando Soler C. Xicoténcatl\,  Centro\,  25000 Saltillo\,  Coah.
SUMMARY:El Lago de los Cisnes
DESCRIPTION:¡ El clásico de todos los tiempos el Ballet de «El Lago de l
 os Cisnes» vuelve al Teatro Fernando Soler!✨🦢La historia de un amor i
 mposible entre el príncipe Siegfried y Odette\,  una joven reina convertid
 a en cisne junto a toda su corte por el hechizo del malvado brujo Rothbar p
 or[..]\nhttps://saltillo.city/eventos/el-lago-de-los-cisnes/
URL:https://saltillo.city/eventos/el-lago-de-los-cisnes/
END:VEVENT
END:VCALENDAR