BEGIN:VCALENDAR
VERSION:2.0
PRODID:-//eventon.com NONSGML v1.0//EN
CALSCALE:GREGORIAN
METHOD:PUBLISH
BEGIN:VEVENT
UID:69ea455babb6c
DTSTAMP:20260423T161419Z
DTSTART:20240713T163000Z
DTEND:20240714T055900Z
LOCATION:Museo del Normalismo Calz. de los Maestros 836\,  Centro\,  25000 Saltillo\,  Coah.
SUMMARY:FESTIVAL KIMI OIWAI (sexta edición)
DESCRIPTION:🌸🎈FESTIVAL KIMI OIWAI ⛩🎋 SEXTA EDICION ㊗ Festival 
 de cultura japonesa tradicional y contemporánea\,  una amalgama entre el J
 apón antiguo y el actual \, sera los dias 13 Y 14 DE JULIO DE 2024 \, en e
 l historico MUSEO DEL NORMALISMO\,  con dirección ubicada en CALZADA DE LO
 S MAESTROS 836 EN ZONA[..]\nhttps://saltillo.city/eventos/festival-kimi-oiw
 ai-sexta-edicion/
URL:https://saltillo.city/eventos/festival-kimi-oiwai-sexta-edicion/
END:VEVENT
END:VCALENDAR