BEGIN:VCALENDAR
VERSION:2.0
PRODID:-//eventon.com NONSGML v1.0//EN
CALSCALE:GREGORIAN
METHOD:PUBLISH
BEGIN:VEVENT
UID:69ea014eb29ce
DTSTAMP:20260423T112358Z
DTSTART:20240615T170000Z
DTEND:20240616T055900Z
LOCATION:Bosque Urbano Ejercito Mexicano Nuevo Centro Metropolitano de Saltillo\,  25022 Saltillo\,  Coah.
SUMMARY:Feria Agroecológica
DESCRIPTION:Sábado 15 de junio &#8211; 11 AMBosque Urbano Ejército Mexica
 no Una fiesta del campo para la infancia Con este evento buscamos acercar a
  las niñas y niños a toda la cultura agrícola\,  que tengan la posibilid
 ad de observar y aprender el proceso que lleva el alimento para llegar a nu
 estra[..]\nhttps://saltillo.city/eventos/feria-agroecologica/
URL:https://saltillo.city/eventos/feria-agroecologica/
END:VEVENT
END:VCALENDAR