BEGIN:VCALENDAR
VERSION:2.0
PRODID:-//eventon.com NONSGML v1.0//EN
CALSCALE:GREGORIAN
METHOD:PUBLISH
BEGIN:VEVENT
UID:69e4cc47dc841
DTSTAMP:20260419T123623Z
DTSTART:20220507T020000Z
DTEND:20220507T045000Z
LOCATION:Dogma Bar Saltillo Blvd. José Musa de León 2470\,  Los Pinos 4to Sector\,  25204 Saltillo\,  Coah.
SUMMARY:PHUNK y ARA SÁNCHEZ En vivo
DESCRIPTION:Viernes 6 de Mayo PHUNK y ARA SÁNCHEZ En vivo!! Los esperamos 
 este viernes con la mejor música en vivo con estos dos proyectos con los m
 ejores músicos de saltillo y dos de las mejores voces. El cover lo ponemos
  nosotros para que vengan a conocer esta nueva propuesta musical[..]\nhttps
 ://saltillo.city/eventos/phunk-y-ara-sanchez-en-vivo/
URL:https://saltillo.city/eventos/phunk-y-ara-sanchez-en-vivo/
END:VEVENT
END:VCALENDAR