BEGIN:VCALENDAR
VERSION:2.0
PRODID:-//eventon.com NONSGML v1.0//EN
CALSCALE:GREGORIAN
METHOD:PUBLISH
BEGIN:VEVENT
UID:69ec3f6a302d0
DTSTAMP:20260425T041330Z
DTSTART:20250829T023000Z
DTEND:20250829T055900Z
LOCATION:Teatro de la Ciudad Fernando Soler C. Xicoténcatl\,  Centro\,  25000 Saltillo\,  Coah.
SUMMARY:Miguel Colom en Concierto en el Teatro De La Ciudad Fernando Soler
DESCRIPTION:La Orquesta Filarmónica del Desierto\,  bajo la dirección art
 ística del Mtro. Natanael Espinoza\,  abre con gran elegancia la Segunda S
 erie de su Temporada 2025 con la participación estelar de Miguel Colom\,  
 concertino de la Orquesta y Coro Nacionales de España\,  uno de los violin
 istas más destacados del viejo mundo. Con[..]\nhttps://saltillo.city/event
 os/miguel-colom-en-concierto-en-el-teatro-de-la-ciudad-fernando-soler/
URL:https://saltillo.city/eventos/miguel-colom-en-concierto-en-el-teatro-de-la-ciudad-fernando-soler/
END:VEVENT
END:VCALENDAR