BEGIN:VCALENDAR
VERSION:2.0
PRODID:-//eventon.com NONSGML v1.0//EN
CALSCALE:GREGORIAN
METHOD:PUBLISH
BEGIN:VEVENT
UID:69e6395bc0c02
DTSTAMP:20260420T143403Z
DTSTART:20251206T060000Z
DTEND:20251206T095900Z
LOCATION:Estadio de Béisbol Francisco I. Madero Blvd. Jesus Valdez Sanchez 1-Int. B\,  Topochico\,  25284 Saltillo\,  Coah.
SUMMARY:Bobby Pulido Por la Puerta Grande Tour
DESCRIPTION:🎄 La Gran Posada en Saltillo – Bobby Pulido Por la Puerta 
 Grande Tour 🤠🎶 Saltillo vivirá una noche inolvidable con la llegada 
 de Bobby Pulido y su tour Por la Puerta Grande\,  acompañado nada menos qu
 e por Roberto Pulido\,  en un evento lleno de energía\,  sentimiento y tra
 dición norteña.[..]\nhttps://saltillo.city/eventos/bobby-pulido-por-la-pu
 erta-grande-tour/
URL:https://saltillo.city/eventos/bobby-pulido-por-la-puerta-grande-tour/
END:VEVENT
END:VCALENDAR