BEGIN:VCALENDAR
VERSION:2.0
PRODID:-//eventon.com NONSGML v1.0//EN
CALSCALE:GREGORIAN
METHOD:PUBLISH
BEGIN:VEVENT
UID:69e9e4ec91638
DTSTAMP:20260423T092252Z
DTSTART:20251219T030000Z
DTEND:20251219T055900Z
LOCATION:Confesionario Bar 25000\,  Centro histórico\,  25000 Saltillo\,  Coah.
SUMMARY:Anabanta en Confesionario Catedral del Rock
DESCRIPTION:🎤 Noche Especial en El Confesionario — 18 de Diciembre 202
 5 Saltillo se prepara para una velada única este 18 de diciembre\,  cuando
  El Confesionario abra sus puertas para recibir un evento que promete cerra
 r el año con música\,  ambiente íntimo y una energía inolvidable. 🕗 
 Hora: 20:00 hrs📍 Lugar:[..]\nhttps://saltillo.city/eventos/anabanta-en-c
 onfesionario-catedral-del-rock/
URL:https://saltillo.city/eventos/anabanta-en-confesionario-catedral-del-rock/
END:VEVENT
END:VCALENDAR