BEGIN:VCALENDAR
VERSION:2.0
PRODID:-//eventon.com NONSGML v1.0//EN
CALSCALE:GREGORIAN
METHOD:PUBLISH
BEGIN:VEVENT
UID:69ea49818daab
DTSTAMP:20260423T163201Z
DTSTART:20251214T030000Z
DTEND:20251214T055900Z
LOCATION:Cervecería Don Baldomero C. Alvaro Obregón 107\,  Zona Centro\,  25000 Saltillo\,  Coah.
SUMMARY:Posada Don Baldo con Genitallica
DESCRIPTION:⚠️ Atención Saltillo ⚠️Por primera vez en Cervecería 
 Don Baldo…¡Genitallica llega para encender la Posada Don Baldo! 🔥🍻
  Celebra la temporada con una noche que promete estar hasta el tope de ener
 gía\,  música y fiesta.Prepárate para una experiencia única con invitad
 o especial Genitallica en vivo. 🤘😎 📅 Sábado 13 de[..]\nhttps://sa
 ltillo.city/eventos/posada-don-baldo-con-genitallica/
URL:https://saltillo.city/eventos/posada-don-baldo-con-genitallica/
END:VEVENT
END:VCALENDAR