BEGIN:VCALENDAR
VERSION:2.0
PRODID:-//eventon.com NONSGML v1.0//EN
CALSCALE:GREGORIAN
METHOD:PUBLISH
BEGIN:VEVENT
UID:69e8ff9c031f4
DTSTAMP:20260422T170428Z
DTSTART:20251228T010000Z
DTEND:20251228T055900Z
LOCATION:Lienzo Charro Profr. Enrique González Treviño Nazario Ortiz Garza s/n Rancho de Peña 25210 Saltillo\,  Coah.
SUMMARY:Rodeo Del Desierto en El Lienzo Charro
DESCRIPTION:🐂🔥 ¡ATENCIÓN\,  SALTILLO! 🔥🐂El Rodeo del Desierto
  regresa para hacerte vivir la experiencia más intensa del año.Este sába
 do 27 de diciembre de 2025\,  el Lienzo Charro Profesor Enrique González s
 erá el escenario de La Batalla Final — Coahuila Tour 2025 🤠💥Prepá
 rate para una noche llena de adrenalina\,  monta profesional\,  ambiente[..
 ]\nhttps://saltillo.city/eventos/rodeo-del-desierto-en-el-lienzo-charro/
URL:https://saltillo.city/eventos/rodeo-del-desierto-en-el-lienzo-charro/
END:VEVENT
END:VCALENDAR