BEGIN:VCALENDAR
VERSION:2.0
PRODID:-//eventon.com NONSGML v1.0//EN
CALSCALE:GREGORIAN
METHOD:PUBLISH
BEGIN:VEVENT
UID:69e9210672b8c
DTSTAMP:20260422T192702Z
DTSTART:20251227T000000Z
DTEND:20251227T020000Z
LOCATION:Teatro IMSS Manuel Doblado 660\,  Zona Centro\,  25000 Saltillo\,  Coah.
SUMMARY:Las Guerreras K-Pop en Saltillo
DESCRIPTION:Un show lleno de energía\,  baile y poder femenino Este vierne
 s 26 de diciembre de 2025\,  el Teatro del IMSS Saltillo se transformará e
 n el escenario de uno de los espectáculos más vibrantes del año: Las Gue
 rreras K-Pop\,  listas para conquistar al público con coreografías impact
 antes\,  talento juvenil y una[..]\nhttps://saltillo.city/eventos/las-guerr
 eras-k-pop-en-saltillo/var/ri-1.l-L1
URL:https://saltillo.city/eventos/las-guerreras-k-pop-en-saltillo/var/ri-1.l-L1
END:VEVENT
END:VCALENDAR