BEGIN:VCALENDAR
VERSION:2.0
PRODID:-//eventon.com NONSGML v1.0//EN
CALSCALE:GREGORIAN
METHOD:PUBLISH
BEGIN:VEVENT
UID:69ebac21638fd
DTSTAMP:20260424T174505Z
DTSTART:20260207T010000Z
DTEND:20260207T055900Z
LOCATION:Teatro de la Ciudad Fernando Soler C. Xicoténcatl\,  Centro\,  25000 Saltillo\,  Coah.
SUMMARY:La Profesora en el Teatro De La Ciudad Fernando Soler
DESCRIPTION:🎭 Una conversación puede cambiarlo todo.La Profesora llega 
 a Saltillo con una historia intensa\,  divertida y profundamente humana.Dos
  personas de mundos opuestos.Un encuentro incómodo que se transforma en al
 go inesperado.Risas\,  emociones y reflexiones que te van a sorprender.🗓
 ️ Viernes 06 febrero | 7:00 pm📍 Teatro Fernando Soler🎟️ Boletos d
 isponibles en[..]\nhttps://saltillo.city/eventos/la-profesora-en-el-teatro-
 de-la-ciudad-fernando-soler/
URL:https://saltillo.city/eventos/la-profesora-en-el-teatro-de-la-ciudad-fernando-soler/
END:VEVENT
END:VCALENDAR