BEGIN:VCALENDAR
VERSION:2.0
PRODID:-//eventon.com NONSGML v1.0//EN
CALSCALE:GREGORIAN
METHOD:PUBLISH
BEGIN:VEVENT
UID:69ea455bbcc6a
DTSTAMP:20260423T161419Z
DTSTART:20260122T030000Z
DTEND:20260122T055900Z
LOCATION:Beer Therapy Saltillo Av. Don Juan Saade Murra\,  Los Tulipanes\,  25297 Saltillo\,  Coah.
SUMMARY:Noche de Karaoke en Beer Therapy
DESCRIPTION:🎤✨ ¡La noche es tuya en Beer Therapy! ✨🎶Este miérco
 les vive la experiencia de nuestra Karaoke Night Party 🎉👉 Saca al art
 ista que llevas dentro y canta tus canciones favoritas.👉 Disfruta de bon
 eless ilimitados por solo $179 🍗🔥👉 Haz tu reservación y asegura t
 u lugar.📍 Plaza Tulipanes\,  Blvd. Eulalio Gutiérrez[..]\nhttps://salti
 llo.city/eventos/noche-de-karaoke-en-beer-therapy/
URL:https://saltillo.city/eventos/noche-de-karaoke-en-beer-therapy/
END:VEVENT
END:VCALENDAR