BEGIN:VCALENDAR
VERSION:2.0
PRODID:-//eventon.com NONSGML v1.0//EN
CALSCALE:GREGORIAN
METHOD:PUBLISH
BEGIN:VEVENT
UID:69ea03b881c78
DTSTAMP:20260423T113416Z
DTSTART:20260524T010000Z
DTEND:20260524T030000Z
LOCATION:Teatro de la Ciudad Fernando Soler C. Xicoténcatl\,  Centro\,  25000 Saltillo\,  Coah.
SUMMARY:Mentiras\,  El Musical
DESCRIPTION:💋✨ SALTILLO… SE DICEN MUCHAS COSAS\,  PERO ESTO ES VERDA
 D ✨💋 Mentiras\,  El Musical – La Gira llega al Teatro Fernando Soler
  con una historia llena de pasión\,  secretos y canciones que marcaron tod
 a una época. 🎶💔 Drama\,  risas\,  looks icónicos y esos himnos oche
 nteros que todos hemos cantado a[..]\nhttps://saltillo.city/eventos/mentira
 s-el-musical/var/ri-1.l-L1
URL:https://saltillo.city/eventos/mentiras-el-musical/var/ri-1.l-L1
END:VEVENT
END:VCALENDAR