BEGIN:VCALENDAR
VERSION:2.0
PRODID:-//eventon.com NONSGML v1.0//EN
CALSCALE:GREGORIAN
METHOD:PUBLISH
BEGIN:VEVENT
UID:69e59cf531b15
DTSTAMP:20260420T032645Z
DTSTART:20260426T003000Z
DTEND:20260426T055900Z
LOCATION:Teatro IMSS Manuel Doblado 660\,  Zona Centro\,  25000 Saltillo\,  Coah.
SUMMARY:“Peter & The Wolf” de Sergei Prokofiev
DESCRIPTION:🎶🐺 Una experiencia mágica para toda la familia llega a S
 altillo 🐺🎶 El Instituto Municipal de Cultura presenta: ✨ “Peter &
 amp; The Wolf” de Sergei Prokofiev ✨ El cortometraje animado ganador de
 l Oscar\,  en vivo con orquesta 🎻 Una función única que combina músic
 a\,  cine y emoción\,  acompañada por una[..]\nhttps://saltillo.city/even
 tos/peter-the-wolf-de-sergei-prokofiev/
URL:https://saltillo.city/eventos/peter-the-wolf-de-sergei-prokofiev/
END:VEVENT
END:VCALENDAR