BEGIN:VCALENDAR
VERSION:2.0
PRODID:-//eventon.com NONSGML v1.0//EN
CALSCALE:GREGORIAN
METHOD:PUBLISH
BEGIN:VEVENT
UID:69ecde60ccdd7
DTSTAMP:20260425T153144Z
DTSTART:20260430T230000Z
DTEND:20260501T055900Z
LOCATION:Casa Purcell C. Hidalgo 231\,  Zona Centro\,  25000 Saltillo\,  Coah.
SUMMARY:Proyección del musical Rey León
DESCRIPTION:🦁🎉 ¡Celebra el Día del Niño y la Niña con magia\,  m
 sica y diversión! 🎉🦁 Las coordinaciones de Teatro y Cultura Infanti
 l te invitan a un festival lleno de actividades para toda la familia 👧
 ✨ 🎬 Proyección del musical Rey León (UAdeC)✂️ Papercraft🎭 T
 eatro infantil 📅 Jueves 30 de abril🕔[..]\nhttps://saltillo.city/event
 os/proyeccion-del-musical-rey-leon/
URL:https://saltillo.city/eventos/proyeccion-del-musical-rey-leon/
END:VEVENT
END:VCALENDAR