BEGIN:VCALENDAR
VERSION:2.0
PRODID:-//eventon.com NONSGML v1.0//EN
CALSCALE:GREGORIAN
METHOD:PUBLISH
BEGIN:VEVENT
UID:69e5b5c7db383
DTSTAMP:20260420T051239Z
DTSTART:20260427T010000Z
DTEND:20260427T055900Z
LOCATION:Teatro Garcia Carrillo C. Juan Aldama 315\,  Zona Centro\,  25000 Saltillo\,  Coah.
SUMMARY:“Úrsula de los Mares y el Capitán Jack”
DESCRIPTION:🏴‍☠️🌊 ¡Aventura\,  magia y diversión en el escena
 rio! 🌊🏴‍☠️ Llega “Úrsula de los Mares y el Capitán Jack”\
 ,  una historia llena de emoción\,  personajes increíbles y momentos que 
 te harán viajar a través de los siete mares ⚓✨ 🎭 Una puesta en esc
 ena para toda la familia\,  donde la fantasía[..]\nhttps://saltillo.city/e
 ventos/ursula-de-los-mares-y-el-capitan-jack/var/ri-1.l-L1
URL:https://saltillo.city/eventos/ursula-de-los-mares-y-el-capitan-jack/var/ri-1.l-L1
END:VEVENT
END:VCALENDAR