BEGIN:VCALENDAR
VERSION:2.0
PRODID:-//eventon.com NONSGML v1.0//EN
CALSCALE:GREGORIAN
METHOD:PUBLISH
BEGIN:VEVENT
UID:69e59baecd415
DTSTAMP:20260420T032118Z
DTSTART:20260425T200000Z
DTEND:20260426T055900Z
LOCATION:Casa del Artesano C. Hidalgo 305\,  Zona Centro\,  25000 Saltillo\,  Coah.
SUMMARY:Festival de Danza Folclórica “Jarabe Pateño”
DESCRIPTION:💃🔥 ¡LLEGÓ EL FESTIVAL QUE CELEBRA NUESTRAS RAÍCES! 
 💃 Saltillo se llena de tradición\,  música y color con el ✨ Festiva
 l de Danza Folclórica “Jarabe Pateño” ✨ Una jornada llena de cultur
 a y orgullo mexicano 🇲🇽🎶 📍 Casa del Artesano de Coahuila📅 25
  de abril 2026🕑 2:00 PM a 8:00[..]\nhttps://saltillo.city/eventos/festiv
 al-de-danza-folclorica-jarabe-pateno/
URL:https://saltillo.city/eventos/festival-de-danza-folclorica-jarabe-pateno/
END:VEVENT
END:VCALENDAR