BEGIN:VCALENDAR
VERSION:2.0
PRODID:-//eventon.com NONSGML v1.0//EN
CALSCALE:GREGORIAN
METHOD:PUBLISH
BEGIN:VEVENT
UID:69e789af0b2d9
DTSTAMP:20260421T142903Z
DTSTART:20260425T010000Z
DTEND:20260425T055900Z
LOCATION:Teatro Garcia Carrillo C. Juan Aldama 315\,  Zona Centro\,  25000 Saltillo\,  Coah.
SUMMARY:Presentación del libro “Este es mi lugar” de Miguel Santos Leyva
DESCRIPTION:📚✨ Una noche para descubrir nuevas historias ✨📚 Te in
 vitamos a la presentación del libro “Este es mi lugar” de Miguel Santo
 s Leyva\,  una obra que promete conectar con el lector a través de sus pal
 abras y reflexiones. 👥 Participan:• Patricia Gaona• Jaime Zertuche
  Miguel Santos Leyva 📅 Viernes 24[..]\nhttps://saltillo.city/eventos/pr
 esentacion-del-libro-este-es-mi-lugar-de-miguel-santos-leyva/
URL:https://saltillo.city/eventos/presentacion-del-libro-este-es-mi-lugar-de-miguel-santos-leyva/
END:VEVENT
END:VCALENDAR