BEGIN:VCALENDAR
VERSION:2.0
PRODID:-//eventon.com NONSGML v1.0//EN
CALSCALE:GREGORIAN
METHOD:PUBLISH
BEGIN:VEVENT
UID:69ea0098799f6
DTSTAMP:20260423T112056Z
DTSTART:20260421T233000Z
DTEND:20260422T055900Z
LOCATION:Teatro Garcia Carrillo C. Juan Aldama 315\,  Zona Centro\,  25000 Saltillo\,  Coah.
SUMMARY:Taller de Entrenamiento Actoral para Cámara y Desarrollo Humano
DESCRIPTION:🎬✨ Impulsa tu talento frente a cámara ✨🎬 El Institut
 o Municipal de Cultura\,  en colaboración con CANACINE\,  te invita al: 
  Taller de Entrenamiento Actoral para Cámara y Desarrollo Humano Imparti
 do por la reconocida actriz Vanessa Bauche 🤝 Colaborador: Ulises Uriel U
 n espacio para explorar tu expresión\,  fortalecer tus herramientas[..]\nh
 ttps://saltillo.city/eventos/taller-de-entrenamiento-actoral-para-camara-y-
 desarrollo-humano/var/ri-1.l-L1
URL:https://saltillo.city/eventos/taller-de-entrenamiento-actoral-para-camara-y-desarrollo-humano/var/ri-1.l-L1
END:VEVENT
END:VCALENDAR