BEGIN:VCALENDAR
VERSION:2.0
PRODID:-//eventon.com NONSGML v1.0//EN
CALSCALE:GREGORIAN
METHOD:PUBLISH
BEGIN:VEVENT
UID:69ea6c2cb8bc6
DTSTAMP:20260423T185956Z
DTSTART:20260428T150000Z
DTEND:20260429T055900Z
LOCATION:Centro Cultural Universitario de la UAdeC Campus Arteaga Ciudad Universitaria\,  Blvd. Fundadores Km 13\,  25350\,  Arteaga\,  Coah.
SUMMARY:Feria Internacional del Libro de Coahuila 2026
DESCRIPTION:ðŸ“šâœ¨ Â¡Llega la Feria Internacional del Libro de Coahuila 20
 26! âœ¨ðŸ“š Del 24 de abril al 3 de mayo\,  vive una ediciÃ³n donde el fÃºt
 bol\,  el arte y la literatura se unen para crear una experiencia Ãºnica âš
 ½ðŸŽ¨ðŸ“– ðŸ”¥ MÃ¡s de lo que imaginas: ðŸ“– 1300 sesiones de talleres infa
 ntiles[..]\nhttps://saltillo.city/eventos/feria-internacional-del-libro-de-
 coahuila-2026/var/ri-4.l-L1
URL:https://saltillo.city/eventos/feria-internacional-del-libro-de-coahuila-2026/var/ri-4.l-L1
END:VEVENT
END:VCALENDAR