BEGIN:VCALENDAR
VERSION:2.0
PRODID:-//eventon.com NONSGML v1.0//EN
CALSCALE:GREGORIAN
METHOD:PUBLISH
BEGIN:VEVENT
UID:69ece23cbcdcd
DTSTAMP:20260425T154812Z
DTSTART:20261016T050000Z
DTEND:20261016T085900Z
LOCATION:Estadio de Béisbol Francisco I. Madero Blvd. Jesus Valdez Sanchez 1-Int. B\,  Topochico\,  25284 Saltillo\,  Coah.
SUMMARY:Alejandro Sanz en Saltillo
DESCRIPTION:❤️‍🩹🎤 Saltillo se prepara para una noche que va dir
 ecto al corazón 🎤❤️‍🩹 El inigualable Alejandro Sanz llega para
  regalarnos un concierto lleno de poesía\,  guitarra y emociones que se si
 enten en cada palabra 🎶✨ Prepárate para cantar\,  recordar y dejarte 
 llevar con esos himnos que han marcado generaciones… porque[..]\nhttps://
 saltillo.city/eventos/alejandro-sanz-en-saltillo/
URL:https://saltillo.city/eventos/alejandro-sanz-en-saltillo/
END:VEVENT
END:VCALENDAR